{
 "extent": {
  "ymin": 6055574.0446999967,
  "xmin": 1298765.5474999994,
  "ymax": 6701494.0446999967,
  "xmax": 2201355.5474999994,
  "spatialReference": {
   "latestWkid": 3857,
   "wkid": 102100
  }
 },
 "blockWidth": 2048,
 "mosaicOperator": "First",
 "serviceSourceType": "esriImageServiceSourceTypeMosaicDataset",
 "hasMultidimensions": false,
 "maxImageWidth": 4000,
 "maxRecordCount": 2000,
 "meanValues": [
  1330.2278953001257,
  1416.1944348300817,
  1639.4778212952042,
  1615.4163972128094,
  2058.1160590673094,
  3020.6183076783723,
  3324.3162492029546,
  3445.8852149558379,
  3551.1576259221761,
  3593.1437722013893,
  2798.0409474908088,
  2152.8475134347818,
  2152.8475134347818
 ],
 "hasColormap": false,
 "compressionType": "None",
 "defaultCompressionQuality": 85,
 "maxValues": [
  11328,
  11196,
  11489,
  11861,
  12299,
  12500,
  12794,
  12837,
  12926,
  16562,
  12346,
  11937,
  11937
 ],
 "hasHistograms": true,
 "datasetFormat": "AMD",
 "maxImageHeight": 4000,
 "sortField": "AcquisitionDate",
 "bandNames": [
  "B1",
  "B2",
  "B3",
  "B4",
  "B5",
  "B6",
  "B7",
  "B8",
  "B8A",
  "B9",
  "B10",
  "B11",
  "B12"
 ],
 "spatialReference": {
  "latestWkid": 3857,
  "wkid": 102100
 },
 "fullExtent": {
  "ymin": 6055574.0446999967,
  "xmin": 1298765.5474999994,
  "ymax": 6701494.0446999967,
  "xmax": 2201355.5474999994,
  "spatialReference": {
   "latestWkid": 3857,
   "wkid": 102100
  }
 },
 "bandCount": 13,
 "rasterFunctionInfos": [
  {
   "help": "",
   "name": "Agriculture with DRA",
   "description": "Bands shortwave IR-1, near-IR, blue (11, 8, 2) with dynamic range adjustement applied on apparent reflectance. Vigorous veg. is bright green, stressed veg. dull green and bare areas as brown."
  },
  {
   "help": "",
   "name": "Bathymetric with DRA",
   "description": "Bands red, green, coastal/aerosol(4, 3, 1) with Dynamic Range Adjustment applied on apparent reflectance. Useful bathymetric mapping applicaitons."
  },
  {
   "help": "",
   "name": "Color Infrared with DRA",
   "description": "Bands near-infrared, red, green (8, 4, 3) with dynamic range adjustement applied on apparent reflectance. Healthy vegetation is bright red while stressed vegetation is dull red."
  },
  {
   "help": "",
   "name": "Geology with DRA",
   "description": "Bands shortwave IR-1, near-IR, blue (12, 11, 2) with dynamic range adjustement applied on apparent reflectance. Vigorous veg. is bright green, stressed veg. dull green and bare areas as brown."
  },
  {
   "help": "",
   "name": "Natural Color with DRA",
   "description": "Natural Color bands red, green, blue (4, 3, 2) displayed with dynamic range adjustement applied on apparent reflectance."
  },
  {
   "help": "",
   "name": "NDVI Colorized",
   "description": "Normalized difference vegetation index (NDVI) with color map. Dark green is thick vigorous vegetation and brown represents sparse vegetation."
  },
  {
   "help": "",
   "name": "NDVI Raw",
   "description": "Normalized difference vegetation index (NDVI) computed as (b5 - b4) / (b5 + b4) on apparent reflectance"
  },
  {
   "help": "",
   "name": "None",
   "description": "Make a Raster or Raster Dataset into a Function Raster Dataset."
  }
 ],
 "supportsStatistics": true,
 "sortableFields": "MinPS,MaxPS,LowPS,HighPS,AcquisitionDate,CloudCover",
 "minValues": [
  0,
  0,
  0,
  0,
  0,
  0,
  0,
  0,
  0,
  0,
  0,
  0,
  0
 ],
 "allowRasterFunction": true,
 "allowComputeTiePoints": false,
 "serviceDataType": "esriImageServiceDataTypeGeneric",
 "supportsAdvancedQueries": true,
 "maxDownloadSizeLimit": 2048,
 "currentVersion": 12.1,
 "sortValue": "2050/1/1",
 "objectIdField": "OBJECTID",
 "blockHeight": 256,
 "initialExtent": {
  "ymin": 6055574.0446999967,
  "xmin": 1298765.5474999994,
  "ymax": 6701494.0446999967,
  "xmax": 2201355.5474999994,
  "spatialReference": {
   "latestWkid": 3857,
   "wkid": 102100
  }
 },
 "pixelSizeX": 10,
 "pixelSizeY": 10,
 "defaultMosaicMethod": "ByAttribute",
 "name": "Sentinel/Sentinel2A_CR",
 "allowedMosaicMethods": "ByAttribute,Seamline,NorthWest,Center,LockRaster,Nadir,Viewpoint,None",
 "maxDownloadImageCount": 50,
 "fields": [
  {
   "domain": null,
   "name": "OBJECTID",
   "alias": "OBJECTID",
   "type": "esriFieldTypeOID"
  },
  {
   "domain": null,
   "name": "Shape",
   "alias": "Shape",
   "type": "esriFieldTypeGeometry"
  },
  {
   "domain": null,
   "name": "Name",
   "length": 200,
   "alias": "Name",
   "type": "esriFieldTypeString"
  },
  {
   "domain": null,
   "name": "MinPS",
   "alias": "MinPS",
   "type": "esriFieldTypeDouble"
  },
  {
   "domain": null,
   "name": "MaxPS",
   "alias": "MaxPS",
   "type": "esriFieldTypeDouble"
  },
  {
   "domain": null,
   "name": "LowPS",
   "alias": "LowPS",
   "type": "esriFieldTypeDouble"
  },
  {
   "domain": null,
   "name": "HighPS",
   "alias": "HighPS",
   "type": "esriFieldTypeDouble"
  },
  {
   "domain": {
    "splitPolicy": "esriSPTDefaultValue",
    "name": "MosaicCatalogItemCategoryDomain",
    "description": "Catalog item categories.",
    "type": "codedValue",
    "codedValues": [
     {
      "code": 0,
      "name": "Unknown"
     },
     {
      "code": 1,
      "name": "Primary"
     },
     {
      "code": 2,
      "name": "Overview"
     },
     {
      "code": 3,
      "name": "Unprocessed Overview"
     },
     {
      "code": 4,
      "name": "Partial Overview"
     },
     {
      "code": 5,
      "name": "Inactive"
     },
     {
      "code": 253,
      "name": "Uploaded"
     },
     {
      "code": 254,
      "name": "Incomplete"
     },
     {
      "code": 255,
      "name": "Custom"
     }
    ],
    "mergePolicy": "esriMPTDefaultValue"
   },
   "name": "Category",
   "alias": "Category",
   "type": "esriFieldTypeInteger"
  },
  {
   "domain": null,
   "name": "ProductName",
   "length": 100,
   "alias": "ProductName",
   "type": "esriFieldTypeString"
  },
  {
   "domain": null,
   "name": "SensorName",
   "length": 20,
   "alias": "Sensor Name",
   "type": "esriFieldTypeString"
  },
  {
   "domain": null,
   "name": "AcquisitionDate",
   "length": 8,
   "alias": "Acquisition Date",
   "type": "esriFieldTypeDate"
  },
  {
   "domain": null,
   "name": "CloudCover",
   "alias": "Cloud Cover",
   "type": "esriFieldTypeDouble"
  }
 ],
 "allowAnalysis": true,
 "hasRasterAttributeTable": false,
 "useStandardizedQueries": true,
 "description": "",
 "pixelType": "U16",
 "meanPixelSize": 10,
 "exportTilesAllowed": false,
 "editFieldsInfo": null,
 "rasterTypeInfos": [
  {
   "help": "",
   "name": "Raster Dataset",
   "description": "Supports all ArcGIS Raster Datasets"
  }
 ],
 "defaultResamplingMethod": "Bilinear",
 "itemAccess": false,
 "minScale": 0,
 "serviceProperties": "ByAttribute<\/MosaicMethod>First<\/MosaicOperator>true<\/SortAscending><\/LockImageID>AcquisitionDate<\/TileOrderField>2050/1/1<\/TileOrderBase>300.000000<\/AvgImageSpacingX>300.000000<\/AvgImageSpacingY>0.0<\/ViewPointX>0.0<\/ViewPointY>0.0<\/ViewPointDefShiftX>0.0<\/ViewPointDefShiftY>LZ77<\/CompressionMethod>85<\/CompressionQuality>0.010000<\/CompressionTolerance>Bilinear<\/SamplingMethod><\/ImageServiceProperties><\/ImageServer>",
 "advancedQueryCapabilities": {
  "supportsStatistics": true,
  "supportsSqlExpression": true,
  "supportsOrderBy": true,
  "useStandardizedQueries": true,
  "supportsPagination": true,
  "supportsDistinct": true
 },
 "serviceItemId": "3886a51313c043598f41029bb73bfcb8",
 "capabilities": "Image,Metadata,Catalog",
 "maxScale": 0,
 "stdvValues": [
  524.16837836465083,
  507.62699972227603,
  486.05363814309197,
  516.77192008251347,
  525.47594717966001,
  595.88701978984204,
  638.45329566208841,
  650.86400955381839,
  649.98522263686107,
  761.17352105217276,
  646.8341982734255,
  622.85889929799328,
  622.85889929799328
 ],
 "allowedFields": "Name,MinPS,MaxPS,LowPS,HighPS,ProductName,AcquisitionDate,SensorName,CloudCover",
 "minPixelSize": 0,
 "sortAscending": true,
 "maxMosaicImageCount": 50,
 "inspectionCapabilities": "",
 "maxPixelSize": 0,
 "allowedCompressions": "LZ77,NONE,LERC,JPEG",
 "uncompressedSize": 151580242528,
 "serviceDescription": "Sentinel/Sentinel2A_CR",
 "allowCopy": true,
 "copyrightText": "",
 "mensurationCapabilities": "None",
 "ownershipBasedAccessControlForRasters": null
}
