{
 "extent": {
  "ymin": 6055574.0446999967,
  "xmin": 1298765.5474999994,
  "ymax": 6701494.0446999967,
  "xmax": 2203725.5474999994,
  "spatialReference": {
   "latestWkid": 3857,
   "wkid": 102100
  }
 },
 "blockWidth": 2048,
 "mosaicOperator": "First",
 "serviceSourceType": "esriImageServiceSourceTypeMosaicDataset",
 "hasMultidimensions": false,
 "maxImageWidth": 5000,
 "maxRecordCount": 2000,
 "meanValues": [
  1246.6309058691691,
  990.66481323664891,
  901.41410930431277,
  759.5409941367999,
  1041.3706999906824,
  2016.9207289144197,
  2449.7988331967417,
  2412.0568857630883,
  2713.1065670547187,
  853.84098884473292,
  19.235139864925369,
  1764.8866773845637,
  1043.7547888385438
 ],
 "hasColormap": false,
 "compressionType": "None",
 "defaultCompressionQuality": 85,
 "maxValues": [
  12779,
  13725,
  14138,
  16200,
  13031,
  13758,
  14283,
  17060,
  15548,
  13476,
  1183,
  12843,
  12677
 ],
 "hasHistograms": true,
 "datasetFormat": "AMD",
 "maxImageHeight": 5000,
 "sortField": "AcquisitionDate",
 "bandNames": [
  "B1",
  "B2",
  "B3",
  "B4",
  "B5",
  "B6",
  "B7",
  "B8",
  "B8A",
  "B9",
  "B10",
  "B11",
  "B12"
 ],
 "spatialReference": {
  "latestWkid": 3857,
  "wkid": 102100
 },
 "fullExtent": {
  "ymin": 6055574.0446999967,
  "xmin": 1298765.5474999994,
  "ymax": 6701494.0446999967,
  "xmax": 2203725.5474999994,
  "spatialReference": {
   "latestWkid": 3857,
   "wkid": 102100
  }
 },
 "bandCount": 13,
 "rasterFunctionInfos": [
  {
   "help": "",
   "name": "None",
   "description": "Make a Raster or Raster Dataset into a Function Raster Dataset."
  },
  {
   "help": "",
   "name": "Chlorophyll Index - Red Edge (CIRE) Visual",
   "description": "The red-edge chlorophyll index is found to be an accurate and linear estimator of canopy chlorophyll and Ncontent The index requires the following wavelengths: 710 805. The index supports the following sensors: Sentinel-2. Reference: http://pro.arcgis.com/en/pro-app/help/data/imagery/band-arithmetic-function.htm"
  },
  {
   "help": "",
   "name": "Natural Color with DRA",
   "description": "Natural Color bands red, green, blue (4, 3, 2) displayed with dynamic range adjustement applied on apparent reflectance."
  },
  {
   "help": "",
   "name": "Agriculture with DRA",
   "description": "Bands shortwave IR-1, near-IR, blue (11, 8a, 2) with dynamic range adjustement applied on apparent reflectance. Vigorous veg. is bright green, stressed veg. dull green and bare areas as brown."
  },
  {
   "help": "",
   "name": "Bathymetric with DRA",
   "description": "Bands red, green, coastal/aerosol(4, 3, 1) with Dynamic Range Adjustment applied on apparent reflectance. Useful bathymetric mapping applicaitons."
  },
  {
   "help": "",
   "name": "NDVI Classified",
   "description": "Normalized difference vegetation index (NDVI) with colormap. Dark Blue represents vigorous vegetation and green represents sparse vegetation."
  },
  {
   "help": "",
   "name": "Color Infrared with DRA",
   "description": "Bands near-infrared, red, green (8a, 4, 3) with dynamic range adjustement applied on apparent reflectance. Healthy vegetation is bright red while stressed vegetation is dull red."
  },
  {
   "help": "",
   "name": "Geology with DRA",
   "description": "Bands shortwave IR-1, near-IR, blue (12, 11, 2) with dynamic range adjustement applied on apparent reflectance. Vigorous veg. is bright green, stressed veg. dull green and bare areas as brown."
  },
  {
   "help": "",
   "name": "NDMI Colorized",
   "description": "Normalized Difference Moisture Index with color map. Wetlands and moist areas appear blue whereas dry areas are represented by deep yellow and brown color. It is computed as NIR(B8)-SWIR1(B11)/NIR(B8)+SWIR1(B11)."
  },
  {
   "help": "",
   "name": "NDVI Colormap",
   "description": "Normalized difference vegetation index (NDVI) with colormap. Dark green represents vigorous vegetation and brown represents sparse vegetation. It is computed as (b8 - b4) / (b8 + b4) and is suitable for vegetation, land cover and plant health monitoring."
  },
  {
   "help": "",
   "name": "NDVI Raw",
   "description": "Normalized difference vegetation index (NDVI) computed as (b8 - b4) / (b8 + b4)"
  },
  {
   "help": "",
   "name": "NDVI - VRE only Raw",
   "description": "The NDVI - VRE only (NDVI705) Raw index is computed as VRE(Band06)-VRE(Band05)/VRE(Band06)+VRE(Band05) and is most suitable for precision agriculture, forest monitoring and vegetation stress detection. This index is an alteration of the NDVI index and unlike the NDVI index which uses bands from the main absorption and reflectance peaks, this index uses the bands along the red edge. The VRE bands are very sensitive to minor changes in canopy foliage content, gap fraction and deterioration."
  },
  {
   "help": "",
   "name": "NDVI - with VRE Raw",
   "description": "The NDVI - with VRE(NDRE) Raw index is computed as NIR(Band08)-VRE(Band05)/NIR(Band08)+VRE(Band05), also known as NDRE (Normalized Difference Red Edge) and is more appropriate than NDVI index for intensive management applications throughout the growing season. It is a modification of the NDVI index, however works as a better measure of vegetation health than NDVI especially for mid-late season crops that have elevated levels of chlorophyll because VRE bands are more translucent to leaves than red light and hence is seldom completely absorbed by a canopy."
  },
  {
   "help": "",
   "name": "NDWI - with VRE Raw",
   "description": "The NDWI - with VRE Raw index is computed as Green(Band03)-VRE(Band05)/Green(Band03)+VRE(Band05) and is most suitable for mapping of water bodies, droughts, boundary evaluation. This index is an alteration of the NDWI index and unlike the NDWI index which uses the NIR band, this index uses VRE band05 along the red edge."
  },
  {
   "help": "",
   "name": "Normalized Burn Ratio (NBR) Visual",
   "description": "The Normalized Burn Ratio Index (NBRI) uses the NIR and SWIR bands to emphasize burned areas, while mitigating illumination and atmospheric effects. Your images should be corrected to reflectance values before using this index. The index requires the following wavelengths: 2200 865. The index supports the following sensors: Landsat-8 ;Sentinel-2. Reference: http://pro.arcgis.com/en/pro-app/help/data/imagery/indices-gallery.htm"
  },
  {
   "help": "",
   "name": "Short-wave Infrared with DRA",
   "description": "Bands shortwave infrared2, shortwave infrared1, red (12, 11, 4) with dynamic range adjustment applied on apparent reflectance."
  }
 ],
 "supportsStatistics": true,
 "sortableFields": "CloudCover,SensingOrbit,AcquisitionDate,Shape_Area,Shape_Length,ZOrder,CenterY,CenterX,HighPS,LowPS,MaxPS,MinPS",
 "minValues": [
  142,
  641,
  412,
  225,
  53,
  5,
  0,
  136,
  0,
  0,
  2,
  0,
  0
 ],
 "allowRasterFunction": true,
 "allowComputeTiePoints": false,
 "serviceDataType": "esriImageServiceDataTypeGeneric",
 "supportsAdvancedQueries": true,
 "maxDownloadSizeLimit": 2048,
 "currentVersion": 12.1,
 "sortValue": "",
 "timeInfo": {
  "startTimeField": "AcquisitionDate",
  "endTimeField": "AcquisitionDate",
  "timeExtent": [
   1467972632026,
   1785837651000
  ],
  "timeReference": null
 },
 "objectIdField": "OBJECTID",
 "blockHeight": 256,
 "initialExtent": {
  "ymin": 6055574.0446999967,
  "xmin": 1298765.5474999994,
  "ymax": 6701494.0446999967,
  "xmax": 2203725.5474999994,
  "spatialReference": {
   "latestWkid": 3857,
   "wkid": 102100
  }
 },
 "pixelSizeX": 10,
 "pixelSizeY": 10,
 "defaultMosaicMethod": "ByAttribute",
 "name": "Sentinel/Sentinel2_CR",
 "allowedMosaicMethods": "ByAttribute,NorthWest,Center,LockRaster,Nadir,Viewpoint,Seamline,None",
 "maxDownloadImageCount": 50,
 "fields": [
  {
   "domain": null,
   "name": "OBJECTID",
   "alias": "OBJECTID",
   "type": "esriFieldTypeOID"
  },
  {
   "domain": null,
   "name": "Shape",
   "alias": "Shape",
   "type": "esriFieldTypeGeometry"
  },
  {
   "domain": null,
   "name": "Name",
   "length": 200,
   "alias": "Name",
   "type": "esriFieldTypeString"
  },
  {
   "domain": null,
   "name": "MinPS",
   "alias": "MinPS",
   "type": "esriFieldTypeDouble"
  },
  {
   "domain": null,
   "name": "MaxPS",
   "alias": "MaxPS",
   "type": "esriFieldTypeDouble"
  },
  {
   "domain": null,
   "name": "LowPS",
   "alias": "LowPS",
   "type": "esriFieldTypeDouble"
  },
  {
   "domain": null,
   "name": "HighPS",
   "alias": "HighPS",
   "type": "esriFieldTypeDouble"
  },
  {
   "domain": {
    "splitPolicy": "esriSPTDefaultValue",
    "name": "MosaicCatalogItemCategoryDomain",
    "description": "Catalog item categories.",
    "type": "codedValue",
    "codedValues": [
     {
      "code": 0,
      "name": "Unknown"
     },
     {
      "code": 1,
      "name": "Primary"
     },
     {
      "code": 2,
      "name": "Overview"
     },
     {
      "code": 3,
      "name": "Unprocessed Overview"
     },
     {
      "code": 4,
      "name": "Partial Overview"
     },
     {
      "code": 5,
      "name": "Inactive"
     },
     {
      "code": 253,
      "name": "Uploaded"
     },
     {
      "code": 254,
      "name": "Incomplete"
     },
     {
      "code": 255,
      "name": "Custom"
     }
    ],
    "mergePolicy": "esriMPTDefaultValue"
   },
   "name": "Category",
   "alias": "Category",
   "type": "esriFieldTypeInteger"
  },
  {
   "domain": null,
   "name": "Tag",
   "length": 100,
   "alias": "Tag",
   "type": "esriFieldTypeString"
  },
  {
   "domain": null,
   "name": "GroupName",
   "length": 100,
   "alias": "GroupName",
   "type": "esriFieldTypeString"
  },
  {
   "domain": null,
   "name": "ProductName",
   "length": 100,
   "alias": "ProductName",
   "type": "esriFieldTypeString"
  },
  {
   "domain": null,
   "name": "CenterX",
   "alias": "CenterX",
   "type": "esriFieldTypeDouble"
  },
  {
   "domain": null,
   "name": "CenterY",
   "alias": "CenterY",
   "type": "esriFieldTypeDouble"
  },
  {
   "domain": null,
   "name": "ZOrder",
   "alias": "ZOrder",
   "type": "esriFieldTypeInteger"
  },
  {
   "domain": null,
   "name": "SensorName",
   "length": 20,
   "alias": "Sensor Name",
   "type": "esriFieldTypeString"
  },
  {
   "domain": null,
   "name": "AcquisitionDate",
   "length": 8,
   "alias": "Acquisition Date",
   "type": "esriFieldTypeDate"
  },
  {
   "domain": null,
   "name": "SensingOrbit",
   "alias": "Sensing Orbit",
   "type": "esriFieldTypeInteger"
  },
  {
   "domain": null,
   "name": "CloudCover",
   "alias": "Cloud Cover",
   "type": "esriFieldTypeDouble"
  },
  {
   "domain": null,
   "name": "Shape_Length",
   "alias": "Shape_Length",
   "type": "esriFieldTypeDouble"
  },
  {
   "domain": null,
   "name": "Shape_Area",
   "alias": "Shape_Area",
   "type": "esriFieldTypeDouble"
  }
 ],
 "allowAnalysis": true,
 "hasRasterAttributeTable": false,
 "useStandardizedQueries": true,
 "description": "",
 "pixelType": "U16",
 "meanPixelSize": 10,
 "exportTilesAllowed": false,
 "editFieldsInfo": null,
 "rasterTypeInfos": [
  {
   "help": "",
   "name": "Raster Dataset",
   "description": "Supports all ArcGIS Raster Datasets"
  }
 ],
 "defaultResamplingMethod": "Bilinear",
 "itemAccess": false,
 "minScale": 0,
 "serviceProperties": "ByAttribute<\/MosaicMethod>First<\/MosaicOperator>false<\/SortAscending><\/LockImageID>AcquisitionDate<\/TileOrderField><\/TileOrderBase>300.000000<\/AvgImageSpacingX>300.000000<\/AvgImageSpacingY>0.0<\/ViewPointX>0.0<\/ViewPointY>0.0<\/ViewPointDefShiftX>0.0<\/ViewPointDefShiftY>JPEG<\/CompressionMethod>85<\/CompressionQuality>0.010000<\/CompressionTolerance>Bilinear<\/SamplingMethod><\/ImageServiceProperties><\/ImageServer>",
 "advancedQueryCapabilities": {
  "supportsStatistics": true,
  "supportsSqlExpression": true,
  "supportsOrderBy": true,
  "useStandardizedQueries": true,
  "supportsPagination": true,
  "supportsDistinct": true
 },
 "serviceItemId": "868b5e6eb6724dc4b08d3494c8f061b1",
 "capabilities": "Catalog,Mensuration,Image,Metadata",
 "maxScale": 0,
 "stdvValues": [
  148.93215487387732,
  183.54420803775903,
  231.46629469108578,
  343.90304105835673,
  352.3090475962286,
  514.72874698299086,
  658.08687916573842,
  633.78700151619068,
  710.57492189673201,
  375.69053176436449,
  10.378494729147056,
  626.51784444201382,
  555.95433179654094
 ],
 "allowedFields": "CloudCover,SensingOrbit,AcquisitionDate,SensorName,Shape_Area,Shape_Length,ZOrder,CenterY,CenterX,ProductName,GroupName,Tag,HighPS,LowPS,MaxPS,MinPS,Name",
 "minPixelSize": 0,
 "resampling": false,
 "sortAscending": false,
 "maxMosaicImageCount": 50,
 "inspectionCapabilities": "",
 "maxPixelSize": 0,
 "allowedCompressions": "JPEG,None,LZ77,LERC",
 "uncompressedSize": 151978258432,
 "serviceDescription": "Sentinel/Sentinel2_CR",
 "allowCopy": true,
 "copyrightText": "",
 "mensurationCapabilities": "Basic",
 "ownershipBasedAccessControlForRasters": null
}
