{
 "extent": {
  "ymin": 5283630,
  "xmin": 250110,
  "ymax": 5703080,
  "xmax": 851600,
  "spatialReference": {
   "latestWkid": 32633,
   "wkid": 32633
  }
 },
 "blockWidth": 2048,
 "mosaicOperator": "First",
 "serviceSourceType": "esriImageServiceSourceTypeMosaicDataset",
 "hasMultidimensions": false,
 "maxImageWidth": 5000,
 "maxRecordCount": 2000,
 "meanValues": [],
 "hasColormap": false,
 "compressionType": "None",
 "defaultCompressionQuality": 85,
 "maxValues": [],
 "hasHistograms": false,
 "datasetFormat": "AMD",
 "maxImageHeight": 5000,
 "sortField": "Best",
 "bandNames": [
  "B1_Aerosols",
  "B2_Blue",
  "B3_Green",
  "B4_Red",
  "B5_RedEdge",
  "B6_RedEdge",
  "B7_RedEdge",
  "B8_NearInfraRed",
  "B8A_RedEdge",
  "B9_WaterVapour",
  "B10_Cirrus",
  "B11_ShortWaveInfraRed",
  "B12_ShortWaveInfraRed"
 ],
 "spatialReference": {
  "latestWkid": 32633,
  "wkid": 32633
 },
 "fullExtent": {
  "ymin": 5283630,
  "xmin": 250110,
  "ymax": 5703080,
  "xmax": 851600,
  "spatialReference": {
   "latestWkid": 32633,
   "wkid": 32633
  }
 },
 "bandCount": 13,
 "rasterFunctionInfos": [
  {
   "help": "",
   "name": "Natural Color with DRA",
   "description": "Natural Color bands red, green, blue (4, 3, 2) displayed with dynamic range adjustement applied on apparent reflectance."
  },
  {
   "help": "",
   "name": "None",
   "description": "Make a Raster or Raster Dataset into a Function Raster Dataset."
  },
  {
   "help": "",
   "name": "Agriculture with DRA",
   "description": "Bands shortwave IR-1, near-IR, blue (11, 8a, 2) with dynamic range adjustement applied on apparent reflectance. Vigorous veg. is bright green, stressed veg. dull green and bare areas as brown."
  },
  {
   "help": "",
   "name": "Color Infrared with DRA",
   "description": "Bands near-infrared, red, green (8a, 4, 3) with dynamic range adjustement applied on apparent reflectance. Healthy vegetation is bright red while stressed vegetation is dull red."
  },
  {
   "help": "",
   "name": "Geology with DRA",
   "description": "Bands shortwave IR-1, near-IR, blue (12, 11, 2) with dynamic range adjustement applied on apparent reflectance. Vigorous veg. is bright green, stressed veg. dull green and bare areas as brown."
  },
  {
   "help": "",
   "name": "NDVI Colormap",
   "description": "Normalized difference vegetation index (NDVI) with colormap. Dark green represents vigorous vegetation and brown represents sparse vegetation. It is computed as (b8 - b4) / (b8 + b4) and is suitable for vegetation, land cover and plant health monitoring."
  },
  {
   "help": "",
   "name": "NDMI Colorized",
   "description": "Normalized Difference Moisture Index with color map. Wetlands and moist areas appear blue whereas dry areas are represented by deep yellow and brown color. It is computed as NIR(B8)-SWIR1(B11)/NIR(B8)+SWIR1(B11)."
  },
  {
   "help": "",
   "name": "NDSI",
   "description": "NDSI (Normalizovaný diferenční sněhový index) slouží k detekci sněhové pokrývky. Využívá rozdílu odrazivosti sněhu ve viditelné a krátkovlnné infračervené oblasti a počítá se jako (B3 − B11) / (B3 + B11)."
  },
  {
   "help": "",
   "name": "Clre",
   "description": "CLre vyjadřuje relativní obsah chlorofylu ve vegetaci na základě rozdílu odrazivosti v pásmech NIR a RedEdge. Vypočítá se jako (NIR / RedEdge) − 1."
  },
  {
   "help": "",
   "name": "False Color",
   "description": "Pásma SWIR-2, NIR a červeného spektra (12, 8A, 4) s dynamickou úpravou rozsahu.\n Vegetace je zobrazena v zelených odstínech, zatímco půda, zastavěné plochy, voda a suché či\n spálené oblasti jsou zobrazeny v kontrastních barvách.\n "
  }
 ],
 "supportsStatistics": true,
 "sortableFields": "MinPS,MaxPS,LowPS,HighPS,AcquisitionDate,CloudCover,Best,snowIcePercentage,relativeOrbitNumber,noDataPixelPercentage",
 "minValues": [],
 "allowRasterFunction": true,
 "allowComputeTiePoints": false,
 "serviceDataType": "esriImageServiceDataTypeGeneric",
 "supportsAdvancedQueries": true,
 "maxDownloadSizeLimit": 2048,
 "currentVersion": 12.1,
 "sortValue": "0",
 "timeInfo": {
  "startTimeField": "AcquisitionDate",
  "endTimeField": "AcquisitionDate",
  "timeExtent": [
   1535656220000,
   1791319878000
  ],
  "timeReference": null
 },
 "objectIdField": "OBJECTID",
 "blockHeight": 256,
 "initialExtent": {
  "ymin": 5283630,
  "xmin": 250110,
  "ymax": 5703080,
  "xmax": 851600,
  "spatialReference": {
   "latestWkid": 32633,
   "wkid": 32633
  }
 },
 "pixelSizeX": 10,
 "pixelSizeY": 10,
 "defaultMosaicMethod": "ByAttribute",
 "name": "Sentinel/Sentinel_2A_CR_MRF",
 "allowedMosaicMethods": "ByAttribute,Seamline,LockRaster,None",
 "maxDownloadImageCount": 50,
 "fields": [
  {
   "domain": null,
   "name": "OBJECTID",
   "alias": "OBJECTID",
   "type": "esriFieldTypeOID"
  },
  {
   "domain": null,
   "name": "Shape",
   "alias": "Shape",
   "type": "esriFieldTypeGeometry"
  },
  {
   "domain": null,
   "name": "Name",
   "length": 200,
   "alias": "Name",
   "type": "esriFieldTypeString"
  },
  {
   "domain": null,
   "name": "MinPS",
   "alias": "MinPS",
   "type": "esriFieldTypeDouble"
  },
  {
   "domain": null,
   "name": "MaxPS",
   "alias": "MaxPS",
   "type": "esriFieldTypeDouble"
  },
  {
   "domain": null,
   "name": "LowPS",
   "alias": "LowPS",
   "type": "esriFieldTypeDouble"
  },
  {
   "domain": null,
   "name": "HighPS",
   "alias": "HighPS",
   "type": "esriFieldTypeDouble"
  },
  {
   "domain": {
    "splitPolicy": "esriSPTDefaultValue",
    "name": "MosaicCatalogItemCategoryDomain",
    "description": "Catalog item categories.",
    "type": "codedValue",
    "codedValues": [
     {
      "code": 0,
      "name": "Unknown"
     },
     {
      "code": 1,
      "name": "Primary"
     },
     {
      "code": 2,
      "name": "Overview"
     },
     {
      "code": 3,
      "name": "Unprocessed Overview"
     },
     {
      "code": 4,
      "name": "Partial Overview"
     },
     {
      "code": 5,
      "name": "Inactive"
     },
     {
      "code": 253,
      "name": "Uploaded"
     },
     {
      "code": 254,
      "name": "Incomplete"
     },
     {
      "code": 255,
      "name": "Custom"
     }
    ],
    "mergePolicy": "esriMPTDefaultValue"
   },
   "name": "Category",
   "alias": "Category",
   "type": "esriFieldTypeInteger"
  },
  {
   "domain": null,
   "name": "ProductName",
   "length": 100,
   "alias": "ProductName",
   "type": "esriFieldTypeString"
  },
  {
   "domain": null,
   "name": "AcquisitionDate",
   "length": 8,
   "alias": "AcquisitionDate",
   "type": "esriFieldTypeDate"
  },
  {
   "domain": null,
   "name": "CloudCover",
   "alias": "CloudCover",
   "type": "esriFieldTypeSingle"
  },
  {
   "domain": null,
   "name": "TileURL",
   "length": 100,
   "alias": "TileURL",
   "type": "esriFieldTypeString"
  },
  {
   "domain": null,
   "name": "Tile_ID",
   "length": 30,
   "alias": "Tile_ID",
   "type": "esriFieldTypeString"
  },
  {
   "domain": null,
   "name": "TileName",
   "length": 6,
   "alias": "TileName",
   "type": "esriFieldTypeString"
  },
  {
   "domain": null,
   "name": "Best",
   "alias": "Best",
   "type": "esriFieldTypeInteger"
  },
  {
   "domain": null,
   "name": "snowIcePercentage",
   "alias": "snowIcePercentage",
   "type": "esriFieldTypeSingle"
  },
  {
   "domain": null,
   "name": "instrumentShortName",
   "length": 255,
   "alias": "instrumentShortName",
   "type": "esriFieldTypeString"
  },
  {
   "domain": null,
   "name": "relativeOrbitNumber",
   "alias": "relativeOrbitNumber",
   "type": "esriFieldTypeSmallInteger"
  },
  {
   "domain": null,
   "name": "noDataPixelPercentage",
   "alias": "noDataPixelPercentage",
   "type": "esriFieldTypeDouble"
  },
  {
   "domain": null,
   "name": "processingLevel",
   "length": 255,
   "alias": "processingLevel",
   "type": "esriFieldTypeString"
  }
 ],
 "allowAnalysis": true,
 "hasRasterAttributeTable": false,
 "useStandardizedQueries": true,
 "description": "",
 "pixelType": "U16",
 "meanPixelSize": 10,
 "exportTilesAllowed": false,
 "editFieldsInfo": null,
 "rasterTypeInfos": [
  {
   "help": "",
   "name": "Raster Dataset",
   "description": "Supports all ArcGIS Raster Datasets"
  }
 ],
 "defaultResamplingMethod": "Bilinear",
 "itemAccess": false,
 "minScale": 0,
 "serviceProperties": "ByAttribute<\/MosaicMethod>First<\/MosaicOperator>true<\/SortAscending><\/LockImageID>Best<\/TileOrderField>0<\/TileOrderBase>300.000000<\/AvgImageSpacingX>300.000000<\/AvgImageSpacingY>0.0<\/ViewPointX>0.0<\/ViewPointY>0.0<\/ViewPointDefShiftX>0.0<\/ViewPointDefShiftY>JPEG<\/CompressionMethod>85<\/CompressionQuality>0.010000<\/CompressionTolerance>Bilinear<\/SamplingMethod><\/ImageServiceProperties><\/ImageServer>",
 "advancedQueryCapabilities": {
  "supportsStatistics": true,
  "supportsSqlExpression": true,
  "supportsOrderBy": true,
  "useStandardizedQueries": true,
  "supportsPagination": true,
  "supportsDistinct": true
 },
 "serviceItemId": "fb44c48aa5044d56864c63f8dd8fd0f1",
 "capabilities": "Catalog,Mensuration,Image,Metadata",
 "maxScale": 0,
 "stdvValues": [],
 "allowedFields": "Name,MinPS,MaxPS,LowPS,HighPS,ProductName,TileURL,Tile_ID,TileName,AcquisitionDate,CloudCover,Best,snowIcePercentage,instrumentShortName,relativeOrbitNumber,noDataPixelPercentage,processingLevel",
 "minPixelSize": 0,
 "sortAscending": true,
 "maxMosaicImageCount": 50,
 "inspectionCapabilities": "",
 "maxPixelSize": 0,
 "allowedCompressions": "JPEG,LZ77,NONE,LERC",
 "uncompressedSize": 65596694930,
 "serviceDescription": "Sentinel/Sentinel_2A_CR_MRF",
 "allowCopy": true,
 "copyrightText": "",
 "mensurationCapabilities": "Basic",
 "ownershipBasedAccessControlForRasters": null
}
