View In:
ArcGIS JavaScript
ArcGIS Online Map Viewer
ArcGIS Earth
Service Description: Sentinel/Sentinel2_CR
Name: Sentinel/Sentinel2_CR
Description:
Single Fused Map Cache: false
Extent:
XMin: 1298765.5474999994
YMin: 6055574.044699997
XMax: 2203725.5474999994
YMax: 6701494.044699997
Spatial Reference: 102100
(3857)
Initial Extent:
XMin: 1298765.5474999994
YMin: 6055574.044699997
XMax: 2203725.5474999994
YMax: 6701494.044699997
Spatial Reference: 102100
(3857)
Full Extent:
XMin: 1298765.5474999994
YMin: 6055574.044699997
XMax: 2203725.5474999994
YMax: 6701494.044699997
Spatial Reference: 102100
(3857)
Time Info:
Start Time Field: AcquisitionDate
End Time Field: AcquisitionDate
Time Extent:
[2016/07/08 10:10:32 UTC, 2026/10/06 10:08:21 UTC]
Time Reference:
N/A
Pixel Size X: 10.0
Pixel Size Y: 10.0
Band Count: 13
Pixel Type: U16
RasterFunction Infos: {"rasterFunctionInfos": [
{
"help": "",
"name": "None",
"description": "Make a Raster or Raster Dataset into a Function Raster Dataset."
},
{
"help": "",
"name": "Chlorophyll Index - Red Edge (CIRE) Visual",
"description": "The red-edge chlorophyll index is found to be an accurate and linear estimator of canopy chlorophyll and Ncontent The index requires the following wavelengths: 710 805. The index supports the following sensors: Sentinel-2. Reference: http://pro.arcgis.com/en/pro-app/help/data/imagery/band-arithmetic-function.htm"
},
{
"help": "",
"name": "Natural Color with DRA",
"description": "Natural Color bands red, green, blue (4, 3, 2) displayed with dynamic range adjustement applied on apparent reflectance."
},
{
"help": "",
"name": "Agriculture with DRA",
"description": "Bands shortwave IR-1, near-IR, blue (11, 8a, 2) with dynamic range adjustement applied on apparent reflectance. Vigorous veg. is bright green, stressed veg. dull green and bare areas as brown."
},
{
"help": "",
"name": "Bathymetric with DRA",
"description": "Bands red, green, coastal/aerosol(4, 3, 1) with Dynamic Range Adjustment applied on apparent reflectance. Useful bathymetric mapping applicaitons."
},
{
"help": "",
"name": "NDVI Classified",
"description": "Normalized difference vegetation index (NDVI) with colormap. Dark Blue represents vigorous vegetation and green represents sparse vegetation."
},
{
"help": "",
"name": "Color Infrared with DRA",
"description": "Bands near-infrared, red, green (8a, 4, 3) with dynamic range adjustement applied on apparent reflectance. Healthy vegetation is bright red while stressed vegetation is dull red."
},
{
"help": "",
"name": "Geology with DRA",
"description": "Bands shortwave IR-1, near-IR, blue (12, 11, 2) with dynamic range adjustement applied on apparent reflectance. Vigorous veg. is bright green, stressed veg. dull green and bare areas as brown."
},
{
"help": "",
"name": "NDMI Colorized",
"description": "Normalized Difference Moisture Index with color map. Wetlands and moist areas appear blue whereas dry areas are represented by deep yellow and brown color. It is computed as NIR(B8)-SWIR1(B11)/NIR(B8)+SWIR1(B11)."
},
{
"help": "",
"name": "NDVI Colormap",
"description": "Normalized difference vegetation index (NDVI) with colormap. Dark green represents vigorous vegetation and brown represents sparse vegetation. It is computed as (b8 - b4) / (b8 + b4) and is suitable for vegetation, land cover and plant health monitoring."
},
{
"help": "",
"name": "NDVI Raw",
"description": "Normalized difference vegetation index (NDVI) computed as (b8 - b4) / (b8 + b4)"
},
{
"help": "",
"name": "NDVI - VRE only Raw",
"description": "The NDVI - VRE only (NDVI705) Raw index is computed as VRE(Band06)-VRE(Band05)/VRE(Band06)+VRE(Band05) and is most suitable for precision agriculture, forest monitoring and vegetation stress detection. This index is an alteration of the NDVI index and unlike the NDVI index which uses bands from the main absorption and reflectance peaks, this index uses the bands along the red edge. The VRE bands are very sensitive to minor changes in canopy foliage content, gap fraction and deterioration."
},
{
"help": "",
"name": "NDVI - with VRE Raw",
"description": "The NDVI - with VRE(NDRE) Raw index is computed as NIR(Band08)-VRE(Band05)/NIR(Band08)+VRE(Band05), also known as NDRE (Normalized Difference Red Edge) and is more appropriate than NDVI index for intensive management applications throughout the growing season. It is a modification of the NDVI index, however works as a better measure of vegetation health than NDVI especially for mid-late season crops that have elevated levels of chlorophyll because VRE bands are more translucent to leaves than red light and hence is seldom completely absorbed by a canopy."
},
{
"help": "",
"name": "NDWI - with VRE Raw",
"description": "The NDWI - with VRE Raw index is computed as Green(Band03)-VRE(Band05)/Green(Band03)+VRE(Band05) and is most suitable for mapping of water bodies, droughts, boundary evaluation. This index is an alteration of the NDWI index and unlike the NDWI index which uses the NIR band, this index uses VRE band05 along the red edge."
},
{
"help": "",
"name": "Normalized Burn Ratio (NBR) Visual",
"description": "The Normalized Burn Ratio Index (NBRI) uses the NIR and SWIR bands to emphasize burned areas, while mitigating illumination and atmospheric effects. Your images should be corrected to reflectance values before using this index. The index requires the following wavelengths: 2200 865. The index supports the following sensors: Landsat-8 ;Sentinel-2. Reference: http://pro.arcgis.com/en/pro-app/help/data/imagery/indices-gallery.htm"
},
{
"help": "",
"name": "Short-wave Infrared with DRA",
"description": "Bands shortwave infrared2, shortwave infrared1, red (12, 11, 4) with dynamic range adjustment applied on apparent reflectance."
}
]}
Mensuration Capabilities: Basic
Inspection Capabilities:
Has Histograms: true
Has Colormap: false
Has Multi Dimensions : false
Rendering Rule:
Min Scale: 0
Max Scale: 0
Resampling: false
Copyright Text:
Service Data Type: esriImageServiceDataTypeGeneric
Min Values: 142, 641, 412, 225, 53, 5, 0, 136, 0, 0, 2, 0, 0
Max Values: 12779, 13725, 14138, 16200, 13031, 13758, 14283, 17060, 15548, 13476, 1183, 12843, 12677
Mean Values: 1246.6309058691691, 990.66481323664891, 901.41410930431277, 759.5409941367999, 1041.3706999906824, 2016.9207289144197, 2449.7988331967417, 2412.0568857630883, 2713.1065670547187, 853.84098884473292, 19.235139864925369, 1764.8866773845637, 1043.7547888385438
Standard Deviation Values: 148.93215487387732, 183.54420803775903, 231.46629469108578, 343.90304105835673, 352.3090475962286, 514.72874698299086, 658.08687916573842, 633.78700151619068, 710.57492189673201, 375.69053176436449, 10.378494729147056, 626.51784444201382, 555.95433179654094
Object ID Field: OBJECTID
Fields:
-
OBJECTID
(
alias: OBJECTID, type: esriFieldTypeOID
)
-
Shape
(
alias: Shape, type: esriFieldTypeGeometry
)
-
Name
(
length: 200, alias: Name, type: esriFieldTypeString
)
-
MinPS
(
alias: MinPS, type: esriFieldTypeDouble
)
-
MaxPS
(
alias: MaxPS, type: esriFieldTypeDouble
)
-
LowPS
(
alias: LowPS, type: esriFieldTypeDouble
)
-
HighPS
(
alias: HighPS, type: esriFieldTypeDouble
)
-
Category
(
alias: Category, type: esriFieldTypeInteger
, Coded Values:
[0: Unknown]
, [1: Primary]
, [2: Overview]
, ...6 more...
)
-
Tag
(
length: 100, alias: Tag, type: esriFieldTypeString
)
-
GroupName
(
length: 100, alias: GroupName, type: esriFieldTypeString
)
-
ProductName
(
length: 100, alias: ProductName, type: esriFieldTypeString
)
-
CenterX
(
alias: CenterX, type: esriFieldTypeDouble
)
-
CenterY
(
alias: CenterY, type: esriFieldTypeDouble
)
-
ZOrder
(
alias: ZOrder, type: esriFieldTypeInteger
)
-
SensorName
(
length: 20, alias: Sensor Name, type: esriFieldTypeString
)
-
AcquisitionDate
(
length: 8, alias: Acquisition Date, type: esriFieldTypeDate
)
-
SensingOrbit
(
alias: Sensing Orbit, type: esriFieldTypeInteger
)
-
CloudCover
(
alias: Cloud Cover, type: esriFieldTypeDouble
)
-
Shape_Length
(
alias: Shape_Length, type: esriFieldTypeDouble
)
-
Shape_Area
(
alias: Shape_Area, type: esriFieldTypeDouble
)
Default Mosaic Method: ByAttribute
Allowed Mosaic Methods: ByAttribute,NorthWest,Center,LockRaster,Nadir,Viewpoint,Seamline,None
SortField: AcquisitionDate
SortValue:
Mosaic Operator: First
Default Compression Quality: 85
Default Resampling Method: Bilinear
Max Record Count: 2000
Max Image Height: 5000
Max Image Width: 5000
Max Download Image Count: 50
Max Mosaic Image Count: 50
Allow Raster Function: true
Allow Copy: true
Allow Analysis: true
Allow Compute TiePoints: false
Supports Statistics: true
Supports Advanced Queries: true
Use StandardizedQueries: true
Raster Type Infos:
Name: Raster Dataset
Description: Supports all ArcGIS Raster Datasets
Help:
Has Raster Attribute Table: false
Edit Fields Info: N/A
Ownership Based AccessControl For Rasters: N/A
Child Resources:
Info
Histograms
Statistics
Key Properties
Legend
Raster Function Infos
Supported Operations:
Export Image
Query
Identify
Measure
Compute Histograms
Compute Statistics Histograms
Get Samples
Compute Class Statistics
Query GPS Info
Find Images
Image to Map
Map to Image
Measure from Image
Image to Map Multiray
Query Boundary
Compute Pixel Location
Compute Angles
Validate
Project