View In:
ArcGIS JavaScript
ArcGIS Online Map Viewer
ArcGIS Earth
Service Description: Sentinel/Sentinel_2A_CR_MRF
Name: Sentinel/Sentinel_2A_CR_MRF
Description:
Single Fused Map Cache: false
Extent:
XMin: 250110.0
YMin: 5283630.0
XMax: 851600.0
YMax: 5703080.0
Spatial Reference: 32633
(32633)
Initial Extent:
XMin: 250110.0
YMin: 5283630.0
XMax: 851600.0
YMax: 5703080.0
Spatial Reference: 32633
(32633)
Full Extent:
XMin: 250110.0
YMin: 5283630.0
XMax: 851600.0
YMax: 5703080.0
Spatial Reference: 32633
(32633)
Time Info:
Start Time Field: AcquisitionDate
End Time Field: AcquisitionDate
Time Extent:
[2018/08/30 19:10:20 UTC, 2026/10/06 20:51:18 UTC]
Time Reference:
N/A
Pixel Size X: 10.0
Pixel Size Y: 10.0
Band Count: 13
Pixel Type: U16
RasterFunction Infos: {"rasterFunctionInfos": [
{
"help": "",
"name": "Natural Color with DRA",
"description": "Natural Color bands red, green, blue (4, 3, 2) displayed with dynamic range adjustement applied on apparent reflectance."
},
{
"help": "",
"name": "None",
"description": "Make a Raster or Raster Dataset into a Function Raster Dataset."
},
{
"help": "",
"name": "Agriculture with DRA",
"description": "Bands shortwave IR-1, near-IR, blue (11, 8a, 2) with dynamic range adjustement applied on apparent reflectance. Vigorous veg. is bright green, stressed veg. dull green and bare areas as brown."
},
{
"help": "",
"name": "Color Infrared with DRA",
"description": "Bands near-infrared, red, green (8a, 4, 3) with dynamic range adjustement applied on apparent reflectance. Healthy vegetation is bright red while stressed vegetation is dull red."
},
{
"help": "",
"name": "Geology with DRA",
"description": "Bands shortwave IR-1, near-IR, blue (12, 11, 2) with dynamic range adjustement applied on apparent reflectance. Vigorous veg. is bright green, stressed veg. dull green and bare areas as brown."
},
{
"help": "",
"name": "NDVI Colormap",
"description": "Normalized difference vegetation index (NDVI) with colormap. Dark green represents vigorous vegetation and brown represents sparse vegetation. It is computed as (b8 - b4) / (b8 + b4) and is suitable for vegetation, land cover and plant health monitoring."
},
{
"help": "",
"name": "NDMI Colorized",
"description": "Normalized Difference Moisture Index with color map. Wetlands and moist areas appear blue whereas dry areas are represented by deep yellow and brown color. It is computed as NIR(B8)-SWIR1(B11)/NIR(B8)+SWIR1(B11)."
},
{
"help": "",
"name": "NDSI",
"description": "NDSI (Normalizovaný diferenční sněhový index) slouží k detekci sněhové pokrývky. Využívá rozdílu odrazivosti sněhu ve viditelné a krátkovlnné infračervené oblasti a počítá se jako (B3 − B11) / (B3 + B11)."
},
{
"help": "",
"name": "Clre",
"description": "CLre vyjadřuje relativní obsah chlorofylu ve vegetaci na základě rozdílu odrazivosti v pásmech NIR a RedEdge. Vypočítá se jako (NIR / RedEdge) − 1."
},
{
"help": "",
"name": "False Color",
"description": "Pásma SWIR-2, NIR a červeného spektra (12, 8A, 4) s dynamickou úpravou rozsahu.\n Vegetace je zobrazena v zelených odstínech, zatímco půda, zastavěné plochy, voda a suché či\n spálené oblasti jsou zobrazeny v kontrastních barvách.\n "
}
]}
Mensuration Capabilities: Basic
Inspection Capabilities:
Has Histograms: false
Has Colormap: false
Has Multi Dimensions : false
Rendering Rule:
Min Scale: 0
Max Scale: 0
Copyright Text:
Service Data Type: esriImageServiceDataTypeGeneric
Min Values: N/A
Max Values: N/A
Mean Values: N/A
Standard Deviation Values: N/A
Object ID Field: OBJECTID
Fields:
-
OBJECTID
(
alias: OBJECTID, type: esriFieldTypeOID
)
-
Shape
(
alias: Shape, type: esriFieldTypeGeometry
)
-
Name
(
length: 200, alias: Name, type: esriFieldTypeString
)
-
MinPS
(
alias: MinPS, type: esriFieldTypeDouble
)
-
MaxPS
(
alias: MaxPS, type: esriFieldTypeDouble
)
-
LowPS
(
alias: LowPS, type: esriFieldTypeDouble
)
-
HighPS
(
alias: HighPS, type: esriFieldTypeDouble
)
-
Category
(
alias: Category, type: esriFieldTypeInteger
, Coded Values:
[0: Unknown]
, [1: Primary]
, [2: Overview]
, ...6 more...
)
-
ProductName
(
length: 100, alias: ProductName, type: esriFieldTypeString
)
-
AcquisitionDate
(
length: 8, alias: AcquisitionDate, type: esriFieldTypeDate
)
-
CloudCover
(
alias: CloudCover, type: esriFieldTypeSingle
)
-
TileURL
(
length: 100, alias: TileURL, type: esriFieldTypeString
)
-
Tile_ID
(
length: 30, alias: Tile_ID, type: esriFieldTypeString
)
-
TileName
(
length: 6, alias: TileName, type: esriFieldTypeString
)
-
Best
(
alias: Best, type: esriFieldTypeInteger
)
-
snowIcePercentage
(
alias: snowIcePercentage, type: esriFieldTypeSingle
)
-
instrumentShortName
(
length: 255, alias: instrumentShortName, type: esriFieldTypeString
)
-
relativeOrbitNumber
(
alias: relativeOrbitNumber, type: esriFieldTypeSmallInteger
)
-
noDataPixelPercentage
(
alias: noDataPixelPercentage, type: esriFieldTypeDouble
)
-
processingLevel
(
length: 255, alias: processingLevel, type: esriFieldTypeString
)
Default Mosaic Method: ByAttribute
Allowed Mosaic Methods: ByAttribute,Seamline,LockRaster,None
SortField: Best
SortValue: 0
Mosaic Operator: First
Default Compression Quality: 85
Default Resampling Method: Bilinear
Max Record Count: 2000
Max Image Height: 5000
Max Image Width: 5000
Max Download Image Count: 50
Max Mosaic Image Count: 50
Allow Raster Function: true
Allow Copy: true
Allow Analysis: true
Allow Compute TiePoints: false
Supports Statistics: true
Supports Advanced Queries: true
Use StandardizedQueries: true
Raster Type Infos:
Name: Raster Dataset
Description: Supports all ArcGIS Raster Datasets
Help:
Has Raster Attribute Table: false
Edit Fields Info: N/A
Ownership Based AccessControl For Rasters: N/A
Child Resources:
Info
Statistics
Key Properties
Legend
Raster Function Infos
Supported Operations:
Export Image
Query
Identify
Measure
Compute Histograms
Compute Statistics Histograms
Get Samples
Compute Class Statistics
Query GPS Info
Find Images
Image to Map
Map to Image
Measure from Image
Image to Map Multiray
Query Boundary
Compute Pixel Location
Compute Angles
Validate
Project